BEGIN:VCALENDAR
PRODID:-//https://www.blutspendedienst.com///Spenderservice
VERSION:2.0
BEGIN:VTIMEZONE
TZID:Europe/Berlin
X-LIC-LOCATION:Europe/Berlin
BEGIN:DAYLIGHT
TZOFFSETFROM:+0100
TZOFFSETTO:+0200
TZNAME:CEST
DTSTART:19700329T020000
RRULE:FREQ=YEARLY;INTERVAL=1;BYDAY=-1SU;BYMONTH=3
END:DAYLIGHT
BEGIN:STANDARD
TZOFFSETFROM:+0200
TZOFFSETTO:+0100
TZNAME:CET
DTSTART:19701025T030000
RRULE:FREQ=YEARLY;INTERVAL=1;BYDAY=-1SU;BYMONTH=10
END:STANDARD
END:VTIMEZONE
METHOD:PUBLISH
X-WR-CALNAME:Blutspendetermin
X-WR-TIMEZONE:Europe/Berlin
CALSCALE:GREGORIAN
BEGIN:VEVENT
UID:408303
CREATED;TZID=Europe/Berlin:20260421T140517
LAST-MODIFIED;TZID=Europe/Berlin:20260421T140517
LOCATION:Ostendorfer-Gymnasium\, Dr.-Grundler-Str. 5\, 92318 Neumarkt
SUMMARY:Ihr Blutspendetermin 06.07.2026
STATUS:CONFIRMED
CATEGORIES:Blutspendetermine
DTSTAMP;TZID=Europe/Berlin:20260423T200212
DTSTART;TZID=Europe/Berlin:20260706T140000
DTEND;TZID=Europe/Berlin:20260706T200000
END:VEVENT
END:VCALENDAR
